BEGIN:VCALENDAR
VERSION:2.0
PRODID:-//NWHHT - ECPv5.8.0//NONSGML v1.0//EN
CALSCALE:GREGORIAN
METHOD:PUBLISH
X-WR-CALNAME:NWHHT
X-ORIGINAL-URL:https://www.nwhht.nl
X-WR-CALDESC:Evenementen voor NWHHT
BEGIN:VTIMEZONE
TZID:UTC
BEGIN:STANDARD
TZOFFSETFROM:+0000
TZOFFSETTO:+0000
TZNAME:UTC
DTSTART:20230101T000000
END:STANDARD
END:VTIMEZONE
BEGIN:VEVENT
DTSTART;VALUE=DATE:20230608
DTEND;VALUE=DATE:20230610
DTSTAMP:20260423T105445
CREATED:20230526T095010Z
LAST-MODIFIED:20230526T095010Z
UID:2222-1686182400-1686355199@www.nwhht.nl
SUMMARY:2-daags symposium ter gelegenheid van het afscheid van Rob Baatenburg de Jong
DESCRIPTION:Op 8 en 9 juni wordt een 2-daags symposium georganiseerd ter gelegenheid van het afscheid van Rob Baatenburg de Jong. \nGa naar de website voor alle informatie 2-daags symposium ter gelegenheid van het afscheid van Rob Baatenburg de Jong – Home (aanmelder.nl) \nMet vriendelijke groet\, namens de organisatie \nHennie Karreman \nManagement Assistent \nHersenen & Zintuigen \nKNO\, Keel\, Neus- en Oorheelkunde \n0107033106 | Kamer NG-325 \nh.karreman@erasmusmc.nl \nDr. Molewaterplein 40\, 3015 GD Rotterdam \nPostbus 2040\, 3000 CA Rotterdam \nwww.erasmusmc.nl
URL:https://www.nwhht.nl/event/2-daags-symposium-ter-gelegenheid-van-het-afscheid-van-rob-baatenburg-de-jong/
END:VEVENT
END:VCALENDAR