BEGIN:VCALENDAR
VERSION:2.0
PRODID:-//NWHHT - ECPv5.8.0//NONSGML v1.0//EN
CALSCALE:GREGORIAN
METHOD:PUBLISH
X-WR-CALNAME:NWHHT
X-ORIGINAL-URL:https://www.nwhht.nl
X-WR-CALDESC:Evenementen voor NWHHT
BEGIN:VTIMEZONE
TZID:UTC
BEGIN:STANDARD
TZOFFSETFROM:+0000
TZOFFSETTO:+0000
TZNAME:UTC
DTSTART:20180101T000000
END:STANDARD
END:VTIMEZONE
BEGIN:VEVENT
DTSTART;TZID=UTC:20180411T080000
DTEND;TZID=UTC:20180414T170000
DTSTAMP:20260424T092016
CREATED:20170814T092444Z
LAST-MODIFIED:20170814T092626Z
UID:1196-1523433600-1523725200@www.nwhht.nl
SUMMARY:8th European Congress on Head and Neck Oncology
DESCRIPTION:Location: Rome\, Italy \nEarly Registration: Oct.6th\, 2017 \nLate Registration: Feb.18th\, 2018\nFree Paper submission: Nov.30th\, 2017\nPoster abstract submission: Nov.30th\, 2017\nYoung Scientist Forum abstract sub.: Nov.30th\, 2017 \nLocal Committee:\nAIOCC – IHNS Italian Head and Neck Society
URL:https://www.nwhht.nl/event/8th-european-congress-on-head-and-neck-oncology/
END:VEVENT
END:VCALENDAR