BEGIN:VCALENDAR
VERSION:2.0
PRODID:-//NWHHT - ECPv5.8.0//NONSGML v1.0//EN
CALSCALE:GREGORIAN
METHOD:PUBLISH
X-WR-CALNAME:NWHHT
X-ORIGINAL-URL:https://www.nwhht.nl
X-WR-CALDESC:Evenementen voor NWHHT
BEGIN:VTIMEZONE
TZID:UTC
BEGIN:STANDARD
TZOFFSETFROM:+0000
TZOFFSETTO:+0000
TZNAME:UTC
DTSTART:20230101T000000
END:STANDARD
END:VTIMEZONE
BEGIN:VEVENT
DTSTART;VALUE=DATE:20230615
DTEND;VALUE=DATE:20230618
DTSTAMP:20260423T123424
CREATED:20220913T110323Z
LAST-MODIFIED:20220913T110323Z
UID:2120-1686787200-1687046399@www.nwhht.nl
SUMMARY:Advanced Course Head and Neck Oncology
DESCRIPTION:SAVE THE DATE \nSince more than 30 years\, treatment of head and neck cancer has been centralized in The Netherlands. Each patient is discussed in and treated by a multidisciplinary team of medical professionals\, all highly trained in head and neck oncology according to international guidelines. Clinical outcome of head and neck cancer patients in The Netherlands is one of the best in the world. \nIn this three days course we aim to share with you our more than 30 years of experience of a MultiDisciplinary Team (MDT) approach using up-to-date diagnostic and treatment regimens\, like proton therapy\, immunotherapy and robot surgery. We will focus on complicated patients and complex tumors\, for which personalized treatment/tailored treatment is necessary. \nThis advanced course is meant for medical professionals with basic experience in head and neck oncology who want to incorporate multidisciplinary decision making and up-to-date diagnostics and therapy into daily patient care. Besides plenary and parallel sessions\, multidisciplinary tumor board simulations will be performed\, discussing straightforward and also difficult cases. \nA selection of topics \n• Multidisciplinary approach: what does it mean? \n• MDT in tailored treatment of older HNSCC patients \n• MDT approach in complex cutaneous SCC \n• Multidisciplinary aspects of palliative care \n• 3D planning in HN surgery \n• Decision making in the reconstruction of large defects \n• When choosing for proton therapy? \n• When choosing for immunotherapy? \n• Adverse events after head and neck cancer treatment: how to prevent and how to handle? \n• MDT approach in malignant skull base tumors \n• MDT to decide between TORS or radiotherapy? \n• Multidisciplinary approach in scientific researc \nProgram Committee\nGyorgy Halmos\, MD\, PhD\, Otolaryngologist\, Head and Neck Surgeon\, UMCG\nBoudewijn Plaat\, MD\, PhD\, Otolaryngologist\, Head and Neck Surgeon\, UMCG\nAnne van den Hoek\, MD\, Radiation Oncologist\, UMCG \nMore information can be found on our website. \nYou can easily register for this event by clicking the link below. \nWe look forward to meeting you in Groningen in 2023!\n\n\n\n\n\n\n\n\n\n\n\n\n\n\n\n\n\n\n\n\n\n\n\n\n\n\n\n\n\n\n\n\n\n\n\n\n\n\nClick here to register\n\n\n\n\n\n\n\n\n\n\n\n\n\n\n\n\n\n\n\n\n\n\n\n\n\n\n\n\n\n\n\n\n\n\n\n\n\n\n\n\n\n\n\n\n\n\n\n\n\n\n\n\n\n\n\n\n\n\n\n\n\n\n\nLetter to foreign societies 2023
URL:https://www.nwhht.nl/event/advanced-course-head-and-neck-oncology/
LOCATION:Groningen
END:VEVENT
END:VCALENDAR