BEGIN:VCALENDAR
VERSION:2.0
PRODID:-//NWHHT - ECPv5.8.0//NONSGML v1.0//EN
CALSCALE:GREGORIAN
METHOD:PUBLISH
X-WR-CALNAME:NWHHT
X-ORIGINAL-URL:https://www.nwhht.nl
X-WR-CALDESC:Evenementen voor NWHHT
BEGIN:VTIMEZONE
TZID:UTC
BEGIN:STANDARD
TZOFFSETFROM:+0000
TZOFFSETTO:+0000
TZNAME:UTC
DTSTART:20180101T000000
END:STANDARD
END:VTIMEZONE
BEGIN:VEVENT
DTSTART;TZID=UTC:20181022T090000
DTEND;TZID=UTC:20181022T170000
DTSTAMP:20260424T182650
CREATED:20181022T092830Z
LAST-MODIFIED:20181022T092830Z
UID:1514-1540198800-1540227600@www.nwhht.nl
SUMMARY:Congres NVGPT "Prosthodontics/in focus"
DESCRIPTION:Op vrijdag 14 december 2018 organiseert d NVGPT haar jaarcongres in de Heerlickheijd van Ermelo met als thema “Prosthodontics/in focus”. \nU vindt alle informatie over het congres op de website www.nvgpt.nl
URL:https://www.nwhht.nl/event/congres-nvgpt-prosthodonticsin-focus/
LOCATION:De Heerlickheijd van Ermelo\, Staringlaan 1\, Ermelo\, 3852 LA
END:VEVENT
END:VCALENDAR