BEGIN:VCALENDAR
VERSION:2.0
PRODID:-//NWHHT - ECPv5.8.0//NONSGML v1.0//EN
CALSCALE:GREGORIAN
METHOD:PUBLISH
X-WR-CALNAME:NWHHT
X-ORIGINAL-URL:https://www.nwhht.nl
X-WR-CALDESC:Evenementen voor NWHHT
BEGIN:VTIMEZONE
TZID:UTC
BEGIN:STANDARD
TZOFFSETFROM:+0000
TZOFFSETTO:+0000
TZNAME:UTC
DTSTART:20220101T000000
END:STANDARD
END:VTIMEZONE
BEGIN:VEVENT
DTSTART;TZID=UTC:20220308T170000
DTEND;TZID=UTC:20220308T170000
DTSTAMP:20260426T043133
CREATED:20220121T092025Z
LAST-MODIFIED:20220307T110552Z
UID:2002-1646758800-1646758800@www.nwhht.nl
SUMMARY:Geannuleerd: INFORMATIEMIDDAG LATE RADIATIESCHADE
DESCRIPTION:PV Bijeenkomsten 8 maart en 11 maart afgelast \nVoor patiënten\, hun naasten\, zorgverleners en andere belangstellenden \nBij de behandeling van hoofd-halstumoren neemt radiotherapie (bestraling) een belangrijke plaats in.\nHelaas lukt het niet altijd schade te voorkomen en heeft de patiënt soms langdurig last van vervelende\ngevolgen van de bestraling. Zo kunnen ernstige klachten ontstaan die moeilijk te behandelen zijn. \nPatiëntenvereniging HOOFD-HALS (PVHH) en de Utrechtse Werkgroep Hoofd-Hals Tumoren\n(UWHHT) organiseren op dinsdagmiddag 8 maart gezamenlijk een informatiemiddag over late\nradiatieschade\, het voorkomen van deze schade\, de behandeling van deze schade en de gevolgen\nvan de schade op het dagelijks leven. Ook komen ervaringsdeskundigen aan het woord. De middag\nstaat in het teken van het uitwisselen van ervaringen tussen en met lotgenoten en zorgprofessionals. \nDe bijeenkomst is gepland in het UMC Utrecht en is ook digitaal te volgen. Nadere informatie volgt\nspoedig. \nWij hopen u te mogen verwelkomen op deze interessante middag. \nDhr. Rob Burdorf                                                        Prof.dr. Remco de Bree\nPatiëntenvereniging                                                   HOOFD-HALS Utrechtse Werkgroep Hoofd-Hals Tumoren \nBeoogd programma\n13.00 Inloop met koffie en wat lekkers\n13.30 Welkomstwoord en introductie\n13:40 Voorkomen van late radiatieschade (=bestralingsschade) door Ernst Smid\, radiotherapeut\n13.55 Osteoradionecrose (= het afsterven van het bot door bestraling ) door Francois Dieleman\,\nkaakchirurg/hoofd-halschirurg\n14.10 De dysfunctionele larynx (= schade in het strottenhoofd waardoor er problemen zijn met het\nslikken en/of spreken) en chirurgie na radiotherapie door Weibel Braunius\, KNO-arts/hoofdhalschirurg\n– vervolg –\n14.25 Hyperbare zuurstoftherapie (= een behandeling waarbij het zuurstofgehalte in het bloed wordt\nverhoogd. Hierdoor genezen wonden sneller) door Tom Schneider van de Da Vinci kliniek\n14.40 Pauze\n15.00 Wat kan de patiëntenvereniging betekenen voor de (ex)-patiënt? door Rob Burdorf\, voorzitter\nPVHH\n15:15 Patiëntervaring 1\n15.30 Patiëntervaring 2\n15:45 Vragen en discussie\n16:00 – 17.00 Afsluiting met een hapje en een drankje
URL:https://www.nwhht.nl/event/informatiemiddag-late-radiatieschade/
LOCATION:UMC Utrecht\, Heidelberglaan 100\, Utrecht\, Utrecht\, 3584 CX\, Nederland
END:VEVENT
END:VCALENDAR