BEGIN:VCALENDAR
VERSION:2.0
PRODID:-//NWHHT - ECPv5.8.0//NONSGML v1.0//EN
CALSCALE:GREGORIAN
METHOD:PUBLISH
X-WR-CALNAME:NWHHT
X-ORIGINAL-URL:https://www.nwhht.nl
X-WR-CALDESC:Evenementen voor NWHHT
BEGIN:VTIMEZONE
TZID:UTC
BEGIN:STANDARD
TZOFFSETFROM:+0000
TZOFFSETTO:+0000
TZNAME:UTC
DTSTART:20180101T000000
END:STANDARD
END:VTIMEZONE
BEGIN:VEVENT
DTSTART;VALUE=DATE:20180315
DTEND;VALUE=DATE:20180318
DTSTAMP:20260424T073921
CREATED:20170814T092128Z
LAST-MODIFIED:20170814T092921Z
UID:1191-1521072000-1521331199@www.nwhht.nl
SUMMARY:Master: "Hands-on"\, surgical approaches to anterolateral skull base
DESCRIPTION:Second level Master’s Course 2017-2018\nHands-on surgical approaches to the anterolateral skull base\nThe course provides comprehensive theoretical and practical instruction on surgical access to the anterolateral skull base\, an anatomically homogenous region. This one-of-its-kind course features: \n\nOne cadaver head per participant\nThree 3-day dissection courses on each of the following:\n\nTranscranial\, pterional and variants\nEndonasal and median subfrontal\nOther approaches\, including those directed to the orbit\n\n\nContinuity of learning throughout the year\nContinuity of instruction during intervals between courses\nMultidisciplinary faculty\nRange of techniques from microscopic to endoscopic\nGuided comparion of surgical approaches to the same intracranial area\n\nThe course will be held in collaboration with the ICLO Teaching and Research Center Verona and the University Hospital of Verona. \nApplications for admission to the course will open in July 2017. \nFor more information\, please see the brochure.
URL:https://www.nwhht.nl/event/master-hands-on-surgical-approaches-to-anterolateral-skull-base/
LOCATION:University of Verona\, Italy
END:VEVENT
END:VCALENDAR