BEGIN:VCALENDAR
VERSION:2.0
PRODID:-//NWHHT - ECPv5.8.0//NONSGML v1.0//EN
CALSCALE:GREGORIAN
METHOD:PUBLISH
X-WR-CALNAME:NWHHT
X-ORIGINAL-URL:https://www.nwhht.nl
X-WR-CALDESC:Evenementen voor NWHHT
BEGIN:VTIMEZONE
TZID:UTC
BEGIN:STANDARD
TZOFFSETFROM:+0000
TZOFFSETTO:+0000
TZNAME:UTC
DTSTART:20170101T000000
END:STANDARD
END:VTIMEZONE
BEGIN:VEVENT
DTSTART;VALUE=DATE:20171207
DTEND;VALUE=DATE:20171208
DTSTAMP:20260424T110153
CREATED:20171107T135658Z
LAST-MODIFIED:20171107T135658Z
UID:1417-1512604800-1512691199@www.nwhht.nl
SUMMARY:NVGPT congres: 3D\, aan de slag ermee!
DESCRIPTION:Locatie: De Heerlickheijd van Ermelo te Ermelo
URL:https://www.nwhht.nl/event/nvgpt-congres-3d-aan-de-slag-ermee/
ORGANIZER;CN="Nederlandse%20vereniging%20voor%20gnathologie%20en%20prothetische%20tandheelkunde":MAILTO:info@nvgpt.nl
END:VEVENT
END:VCALENDAR