BEGIN:VCALENDAR
VERSION:2.0
PRODID:-//NWHHT - ECPv5.8.0//NONSGML v1.0//EN
CALSCALE:GREGORIAN
METHOD:PUBLISH
X-WR-CALNAME:NWHHT
X-ORIGINAL-URL:https://www.nwhht.nl
X-WR-CALDESC:Evenementen voor NWHHT
BEGIN:VTIMEZONE
TZID:UTC
BEGIN:STANDARD
TZOFFSETFROM:+0000
TZOFFSETTO:+0000
TZNAME:UTC
DTSTART:20170101T000000
END:STANDARD
END:VTIMEZONE
BEGIN:VEVENT
DTSTART;TZID=UTC:20171012T090000
DTEND;TZID=UTC:20171013T163000
DTSTAMP:20260424T122032
CREATED:20170814T090920Z
LAST-MODIFIED:20170814T092215Z
UID:1185-1507798800-1507912200@www.nwhht.nl
SUMMARY:NWHHT Congres 2017
DESCRIPTION:Creating the Future! \nMet genoegen nodigen wij u uit voor het jaarlijke NWHHT congres! \n  \nDonderdag 12 oktober \nWetenschappelijke dag NWHHT \nWaver zaal\, VUmc \n09.00 – 16.30 Aansluitend borrel en congres diner (externe locatie) \n  \nVrijdag 13 oktober \nCreating the Future! Met onder andere de volgende onderwerpen: \nNieuwe ontwikkelingen op het gebied van immunotherapie\, radiotherapie\, detectie technieken en chirurgie. \nLocatie: Amstelzaal\, VUmc \n09.00 – 17.00 \n  \nEen gedetailleerde inhoudelijk programma ontvangt u eind augustus 2017. \nWij verzoeken u in te schrijven via de websit hiernaast. Deelname is alleen mogelijk na inschrijving.
URL:https://www.nwhht.nl/event/nwhht-congres-2017/
LOCATION:Vrije Universiteit Medisch Centrum\, Amsterdan\, Netherlands
END:VEVENT
END:VCALENDAR