BEGIN:VCALENDAR
VERSION:2.0
PRODID:-//NWHHT - ECPv5.8.0//NONSGML v1.0//EN
CALSCALE:GREGORIAN
METHOD:PUBLISH
X-WR-CALNAME:NWHHT
X-ORIGINAL-URL:https://www.nwhht.nl
X-WR-CALDESC:Evenementen voor NWHHT
BEGIN:VTIMEZONE
TZID:UTC
BEGIN:STANDARD
TZOFFSETFROM:+0000
TZOFFSETTO:+0000
TZNAME:UTC
DTSTART:20220101T000000
END:STANDARD
END:VTIMEZONE
BEGIN:VEVENT
DTSTART;TZID=UTC:20220325T100000
DTEND;TZID=UTC:20220325T163000
DTSTAMP:20260426T025343
CREATED:20220120T161204Z
LAST-MODIFIED:20220121T091510Z
UID:1991-1648202400-1648225800@www.nwhht.nl
SUMMARY:Symposium “Better in\, better out”: Optimalisatie van het zorgpad hoofd-halsoncologie
DESCRIPTION:Uitnodiging | Webversie\n\n\n\n\n\n\n\n\n\n\n\n\n\n\n\n\n\n\n\n\n\n\n\n\n\n\n\n\n\n\n\n\n\nSymposium\n\n\n\n\n\n\n\n\n\n\n\n\n“Better in\, better out”: Optimalisatie van het zorgpad hoofd-halsoncologie \n25 maart 2022 van 10:00 – 16:30 uur \n\n\n\n\n\n\n\n\n\n\n\n\n\n\n\n\n\n\n\n\n\n\n\n\n\n\n\n\n\n\n\n\n  \n\n\n\n\n\n\n\n\n\n\n\n\n\n\n\n\n\n\n\n\n\n\n\n  \n\n\n\n\n\n\n\nIn de hoofd-halsoncologie is het traject voor de start van de behandeling een belangrijk onderdeel van het zorgpad om te komen tot zo optimaal mogelijke uitkomsten. Hoe beter dit is georganiseerd\, des te beter zullen de uitkomsten voor de patiënt zijn. Maar wat zijn nu belangrijke aspecten hierbij en hoe is dit te realiseren? \nOp vrijdag 25 maart 2022 wordt in het Radboudumc te Nijmegen een symposium over optimalisatie van dit deel van de hoofd-halsoncologische zorg georganiseerd. De bedoeling is dat het een interactief en multidisciplinair karakter zal hebben. Ook belanghebbenden en geïnteresseerden die geen zorgverlener zijn\, zijn welkom. Voor de lunch wordt gezorgd en de dag zal worden afgesloten met een hapje en een drankje. \nWij nodigen u graag uit om deel te nemen en zien uit naar uw aanwezigheid en inbreng. Gezien de interactiviteit van dit programma\, hebben we ervoor gekozen om dit symposium enkel fysiek te organiseren en is er geen mogelijkheid dit symposium online te volgen. Mocht het onverhoopt niet fysiek kunnen plaatsvinden i.v.m. de dan geldende corona maatregelen dan zal het symposium worden geannuleerd of eventueel verplaatst. Hierover zullen wij u tijdig informeren en u in dat geval het inschrijfgeld terugbetalen. \nMet vriendelijke groet\,\nNamens het organisatiecomité\,\nRobert Takes\,\nKNO-arts/hoofd-halschirurg Radboudumc\n\n\n\n\n\n\n\n  \n\n\n\n\n\n\n\nProgramma \n09:30 uur  Ontvangst \n10:00 uur  Welkom en introductie\ndoor Robert Takes \n10:15 uur  Patient Journey\nInterview van patiënt \n10:40 uur  Hoe belangrijk is tijdige start van behandeling?\nPanel met discussie door Henrieke Schutte en Gyuri Halmos \n11:15 uur Optimalisatie van logistiek en organisatie\nPresentaties door Robert Takes\, Frank Hoebers\, Martin Lacko en Hossein Ghaeminia \n12:00 uur  Geriatrische screening en assessment\nPanel met discussie door Gyuri Halmos en William van Aalst \n12:30 uur  Lunch \n13:30 uur  Samen beslissen\nPresentatie door Julia van Tol \n13:45 uur  Prehabilitatie\nPresentatie door Baukje van den Heuvel en Dieuwke Strijker \n14:00  Leefstijlinterventies\ndoor Annemarie Ernst \n14:15 uur  Wanneer kiezen voor palliatief beleid\nPanel (2×5 minuten pitch met 15 minuten discussie) door Lilly-Ann van der Velden en Kris Vissers \n14:45 uur  “Data-driven healthcare“\, data gebruik om de zorg te verbeteren\nPresentaties door Guido van den Broek en door Rob Baatenburg de Jong \n15:05 uur  Discussie \n15:15 uur  Slotdiscussie: Wat kan er nog beter maar waar liggen de grenzen van verbetering? \n16:00 uur Slotopmerkingen en afsluiting\ndoor Hans Kaanders \nAfsluiting met een drankje en hapje\n\n\n\n\n\n\n\n  \n\n\n\n\n\n\n\nU KUNT ZICH HIER AANMELDEN\n\n\n\n\n\n\n\n  \n\n\n\n\n\n\n\n\n\n\n\n\n\n\n\n\nLOCATIE \nRadboudumc Experience Center\nGeert Grooteplein 15\nNijmegen \nACCREDITATIE\nwordt aangevraagd bij: \n\nNVRO\nKNO\nNVvR\nNVMKA\n\n\n\n\n\n\n\n\n\n\n\n\n\n\n\n\n\n\nCONTACT \nJudith van Werven\nProjectmedewerker\njudith.vanwerven-nobel@radboudumc.nl\ntel. 06 153 21 699 \nKOSTEN VOOR HET SYMPOSIUM \nEURO 75\,00\n\n\n\n\n\n\n\n\n\n\n\n\n\n\n\n\n\n\n\n\n\n\n\n\n\n\nDit symposium wordt mede mogelijk gemaakt door:\n\n\n\n\n\n\n\n\n\n\n\n\n\n\n\n\n\n\n\n\n\n\n\n\n\n \n\n\n\n\n\n\n\n\n\n\n\n\n\n\n\n\n\n\n\n\n\n\n\n\n\n\n\n\n\n\n\n\n\n\n\n\n\n\n\n\n\n\n\n\n\n\n\n\n\n\n\n\n\n\n  \n 
URL:https://www.nwhht.nl/event/symposium-better-in-better-out-optimalisatie-van-het-zorgpad-hoofd-halsoncologie/
END:VEVENT
END:VCALENDAR