BEGIN:VCALENDAR
VERSION:2.0
PRODID:-//NWHHT - ECPv5.8.0//NONSGML v1.0//EN
CALSCALE:GREGORIAN
METHOD:PUBLISH
X-WR-CALNAME:NWHHT
X-ORIGINAL-URL:https://www.nwhht.nl
X-WR-CALDESC:Evenementen voor NWHHT
BEGIN:VTIMEZONE
TZID:UTC
BEGIN:STANDARD
TZOFFSETFROM:+0000
TZOFFSETTO:+0000
TZNAME:UTC
DTSTART:20250101T000000
END:STANDARD
END:VTIMEZONE
BEGIN:VEVENT
DTSTART;TZID=UTC:20251113T123000
DTEND;TZID=UTC:20251115T140000
DTSTAMP:20260420T103012
CREATED:20250624T081243Z
LAST-MODIFIED:20250909T133038Z
UID:2451-1763037000-1763215200@www.nwhht.nl
SUMMARY:THNO 10
DESCRIPTION:THNO 10 \nPromoslide 169 THNO
URL:https://www.nwhht.nl/event/thno-10/
END:VEVENT
END:VCALENDAR